View In:
ArcGIS JavaScript
ArcGIS Online Map Viewer
ArcGIS Earth
ArcMap
View Footprint In:
ArcGIS Online Map Viewer
Service Description: Planet_Imagery_August_2020
Name: Cannabis/Planet_Imagery_August_2020
Description: Planet_Imagery_August_2020
Single Fused Map Cache: false
Extent:
XMin: 6795846.403824064
YMin: 1937834.6965549635
XMax: 7177009.645874902
YMax: 2166703.168136648
Spatial Reference: 102642
(2226)
Initial Extent:
XMin: 6795846.403824064
YMin: 1937834.6965549635
XMax: 7177009.645874902
YMax: 2166703.168136648
Spatial Reference: 102642
(2226)
Full Extent:
XMin: 6795846.403824064
YMin: 1937834.6965549635
XMax: 7177009.645874902
YMax: 2166703.168136648
Spatial Reference: 102642
(2226)
Pixel Size X: 1.5445717656937374
Pixel Size Y: 1.5383737074716812
Band Count: 4
Pixel Type: U8
RasterFunction Infos: {"rasterFunctionInfos": [{
"name": "None",
"description": "",
"help": ""
}]}
Mensuration Capabilities: Basic
Has Histograms: true
Has Colormap: false
Has Multi Dimensions : false
Rendering Rule:
Min Scale: 0
Max Scale: 0
Copyright Text: Planet_Imagery_August_2020
Service Data Type: esriImageServiceDataTypeGeneric
Min Values: 0, 0, 0, 0
Max Values: 255, 255, 255, 255
Mean Values: 66.71348689664576, 68.33860033756527, 63.973287638648685, 235.6468725022477
Standard Deviation Values: 36.308300710684044, 32.50613185030486, 30.31429789854453, 67.53150352366914
Object ID Field:
Fields:
None
Default Mosaic Method: Center
Allowed Mosaic Methods:
SortField:
SortValue: null
Mosaic Operator: First
Default Compression Quality: 75
Default Resampling Method: Bilinear
Max Record Count: null
Max Image Height: 4100
Max Image Width: 15000
Max Download Image Count: null
Max Mosaic Image Count: null
Allow Raster Function: true
Allow Copy: null
Allow Analysis: null
Allow Compute TiePoints: false
Supports Statistics: false
Supports Advanced Queries: false
Use StandardizedQueries: true
Raster Type Infos:
Name: Raster Dataset
Description: Supports all ArcGIS Raster Datasets
Help:
Has Raster Attribute Table: false
Edit Fields Info: null
Ownership Based AccessControl For Rasters: null
Child Resources:
Info
Histograms
Key Properties
Legend
Raster Function Infos
Supported Operations:
Export Image
Identify
Measure
Compute Histograms
Compute Statistics Histograms
Get Samples
Compute Class Statistics
Query Boundary
Compute Pixel Location
Compute Angles
Validate
Project